BEGIN:VCALENDAR
VERSION:2.0
PRODID:-//stagedwell.co.uk - ECPv6.15.16//NONSGML v1.0//EN
CALSCALE:GREGORIAN
METHOD:PUBLISH
X-WR-CALNAME:stagedwell.co.uk
X-ORIGINAL-URL:https://stagedwell.co.uk
X-WR-CALDESC:Events for stagedwell.co.uk
REFRESH-INTERVAL;VALUE=DURATION:PT1H
X-Robots-Tag:noindex
X-PUBLISHED-TTL:PT1H
BEGIN:VTIMEZONE
TZID:Europe/London
BEGIN:DAYLIGHT
TZOFFSETFROM:+0000
TZOFFSETTO:+0100
TZNAME:BST
DTSTART:20250330T010000
END:DAYLIGHT
BEGIN:STANDARD
TZOFFSETFROM:+0100
TZOFFSETTO:+0000
TZNAME:GMT
DTSTART:20251026T010000
END:STANDARD
BEGIN:DAYLIGHT
TZOFFSETFROM:+0000
TZOFFSETTO:+0100
TZNAME:BST
DTSTART:20260329T010000
END:DAYLIGHT
BEGIN:STANDARD
TZOFFSETFROM:+0100
TZOFFSETTO:+0000
TZNAME:GMT
DTSTART:20261025T010000
END:STANDARD
BEGIN:DAYLIGHT
TZOFFSETFROM:+0000
TZOFFSETTO:+0100
TZNAME:BST
DTSTART:20270328T010000
END:DAYLIGHT
BEGIN:STANDARD
TZOFFSETFROM:+0100
TZOFFSETTO:+0000
TZNAME:GMT
DTSTART:20271031T010000
END:STANDARD
END:VTIMEZONE
BEGIN:VEVENT
DTSTART;TZID=Europe/London:20261003T120000
DTEND;TZID=Europe/London:20261003T160000
DTSTAMP:20260425T105911
CREATED:20260224T121419Z
LAST-MODIFIED:20260224T145805Z
UID:213-1791028800-1791043200@stagedwell.co.uk
SUMMARY:Staged Well Oktoberfest 2026 - Uppermill Civic Hall
DESCRIPTION:🍺 A Proper Bavarian Event in Saddleworth \nDust off the lederhosen. \nStaged Well Promotions brings a full-throttle Oktoberfest experience to Uppermill Civic Hall. \n🎺 Live Oompah Band🍺 Steins & Bavarian Beer🥨 Traditional Food🎉 Long bench seating & big atmosphere \nWhether you’re coming as a group\, a couple\, or on your own — this is a proper party\, not just background music in a pub. \nExpect singing\, dancing on benches\, and a hall full of energy. \nSaturday 3rd October 2026Uppermill Civic Hall \nTICKETS ON SALE NOW VIA TICKETTAILOR \nClick Here To Buy Your Tickets – Oktoberfest 2026 – Uppermill Civic Hall
URL:https://stagedwell.co.uk/event/staged-well-oktoberfest-2026-uppermill-civic-hall/
LOCATION:Uppermill Civic Hall\, Lee Street\, Uppermill\, Oldham\, OL3 6AE\, United Kingdom
ATTACH;FMTTYPE=image/png:https://stagedwell.co.uk/wp-content/uploads/2026/02/Bavarian-Promotions-Banner.png
END:VEVENT
END:VCALENDAR